BEGIN:VCALENDAR
VERSION:2.0
CALSCALE:GREGORIAN
PRODID:-//Diputació de Barcelona//DibaCMS//EN
BEGIN:VEVENT
UID:7314
DTSTAMP:20260422T131952
DTSTART:20130402T000000
DTEND:20130403T000000
SUMMARY:Taller de Lleure i salut_Tona
LOCATION:
METHOD:PUBLISH
X-WR-CALNAME:mancoplana@mancoplana.cat
X-WR-TIMEZONE:Europe/Madrid
DESCRIPTION:Del 2 d’abril al 25 de juny de 2013







A càrrec de



 : BAT OSONA



 : JOSEP Mª VILLEGAS, terapeuta ocupacional CAP TONA



 : MARTA SEGALÈS, infermera CAN CODINA



 : PILAR MARMI, terapeuta ocupacional, MARTA ROCA, fisioterapeuta i JUDIT JUANOLA, psicòloga MANCOMUNITAT LA PLANA



 : EVA CAPDEVILA, dinamitzadora de gent gran, PILAR MARTIN, terapeuta ocupacional i fisioterapeuta, LAIA MUNTANYA I CRISTINA RUFIAN, treballadores socials



PLACES LIMITADES 



Inscripcions



 : fins el 27 de març de 2013, trucant a l’Àrea Social de la Mancomunitat (93 812 54 45) de 9 a 14h



Organitza: Ajuntament de Tona



Col·labora: Mancomunitat La Plana, CAP Tona, Fundació Can Codina, Bat Osona, Associació de Jubilats de Tona i Diputació de Barcelona









URI:https://www.mancoplana.cat/actualitat/agenda/taller-de-lleure-i-salut-tona.html
CLASS:PUBLIC
END:VEVENT
END:VCALENDAR
