BEGIN:VCALENDAR
VERSION:2.0
CALSCALE:GREGORIAN
PRODID:-//Diputació de Barcelona//DibaCMS//EN
BEGIN:VEVENT
UID:7319
DTSTAMP:20260422T083636
DTSTART:20130416T000000
DTEND:20130416T000000
SUMMARY:Curs de català i coneixement de l&rsquo;entorn_Sant Martí de Centelles
LOCATION:
METHOD:PUBLISH
X-WR-CALNAME:mancoplana@mancoplana.cat
X-WR-TIMEZONE:Europe/Madrid
DESCRIPTION:Els dimarts i dijous





 

















Inici del curs: 15 d’abril de 2013 

















Inscripcions: 











Servei d’Informació Juvenil 





El Punt





 



















URI:https://www.mancoplana.cat/actualitat/agenda/curs-de-catala-i-coneixement-de-landrsquoentorn-sant-marti-de-centelles.html
CLASS:PUBLIC
END:VEVENT
END:VCALENDAR
