BEGIN:VCALENDAR
VERSION:2.0
CALSCALE:GREGORIAN
PRODID:-//Diputació de Barcelona//DibaCMS//EN
BEGIN:VEVENT
UID:7321
DTSTAMP:20260422T071909
DTSTART:20130411T000000
DTEND:20130411T000000
SUMMARY:Visita a les instal·lacions de la Mancomunitat La Plana_VII Setmana del medi ambient_Folgueroles
LOCATION:
METHOD:PUBLISH
X-WR-CALNAME:mancoplana@mancoplana.cat
X-WR-TIMEZONE:Europe/Madrid
DESCRIPTION:Dins la programació d’actes de la 7ª Setmana de medi ambient



ACTIVITAT PER LA GENT GRAN







Coneixerem la planta de triatge, la planta de compostatge i la deixalleria, els tipus de residus que s’hi tracten, com es seleccionen...







Inscripcions



 al punt d’informació fins el dia 9 d’abril de 2013 - Places limitades per ordre d’inscripció



Sortida a les 9:30h i Tornada a les 13h (aproximadament) Inclou petit esmorzar









URI:https://www.mancoplana.cat/actualitat/agenda/visita-a-les-installacions-de-la-mancomunitat-la-plana-vii-setmana-del-medi-ambient-folgueroles.html
CLASS:PUBLIC
END:VEVENT
END:VCALENDAR
