BEGIN:VCALENDAR
VERSION:2.0
CALSCALE:GREGORIAN
PRODID:-//Diputació de Barcelona//DibaCMS//EN
BEGIN:VEVENT
UID:7328
DTSTAMP:20260422T150959
DTSTART:20130417T000000
DTEND:20130417T000000
SUMMARY:Tertúlia literària_Preparats, llestos...LLEGIM!_Santa Eulàlia de Riuprimer
LOCATION:
METHOD:PUBLISH
X-WR-CALNAME:mancoplana@mancoplana.cat
X-WR-TIMEZONE:Europe/Madrid
DESCRIPTION:
Tertúlia literària per nens i nenes de 8 a 12 anys











No cal inscripció Per més informació: Punt Jove El Cucut

















Preparats, llestos…LLEGIM!












URI:https://www.mancoplana.cat/actualitat/agenda/tertulia-literaria-preparats-llestosllegim-santa-eulalia-de-riuprimer.html
CLASS:PUBLIC
END:VEVENT
END:VCALENDAR
