BEGIN:VCALENDAR
VERSION:2.0
CALSCALE:GREGORIAN
PRODID:-//Diputació de Barcelona//DibaCMS//EN
BEGIN:VEVENT
UID:7332
DTSTAMP:20260422T113606
DTSTART:20130424T000000
DTEND:20130424T000000
SUMMARY:Taller: RELAXA&rsquo;T_3a Setmana de la gent gran_Santa Eulàlia de Riuprimer
LOCATION:
METHOD:PUBLISH
X-WR-CALNAME:mancoplana@mancoplana.cat
X-WR-TIMEZONE:Europe/Madrid
DESCRIPTION:



El taller continuarà els dies 8 i 15 de maig de 2013







Ho organitza: Casal d’Avis El Puig de Santa Eulàlia de Riuprimer













URI:https://www.mancoplana.cat/actualitat/agenda/taller-relaxaandrsquot-3a-setmana-de-la-gent-gran-santa-eulalia-de-riuprimer.html
CLASS:PUBLIC
END:VEVENT
END:VCALENDAR
