BEGIN:VCALENDAR
VERSION:2.0
CALSCALE:GREGORIAN
PRODID:-//Diputació de Barcelona//DibaCMS//EN
BEGIN:VEVENT
UID:7337
DTSTAMP:20260422T100700
DTSTART:20130508T000000
DTEND:20130508T000000
SUMMARY:Xerrada_La protecció dels llamps en un dia de tempesta_Balenyà
LOCATION:
METHOD:PUBLISH
X-WR-CALNAME:mancoplana@mancoplana.cat
X-WR-TIMEZONE:Europe/Madrid
DESCRIPTION:A càrrec de Pere Verdaguer


URI:https://www.mancoplana.cat/actualitat/agenda/xerrada-la-proteccio-dels-llamps-en-un-dia-de-tempesta-balenya.html
CLASS:PUBLIC
END:VEVENT
END:VCALENDAR
