BEGIN:VCALENDAR
VERSION:2.0
CALSCALE:GREGORIAN
PRODID:-//Diputació de Barcelona//DibaCMS//EN
BEGIN:VEVENT
UID:7338
DTSTAMP:20260422T115240
DTSTART:20130509T000000
DTEND:20130509T000000
SUMMARY:Visita guiada al servei de teleassistència_Aiguafreda i Sant Martí de Centelles
LOCATION:
METHOD:PUBLISH
X-WR-CALNAME:mancoplana@mancoplana.cat
X-WR-TIMEZONE:Europe/Madrid
DESCRIPTION:Coneixerem com funciona el servei de teleassistència i tot l’equip de professionals que hi ha darrera, a la seu de Barcelona







Inscripcions



 : fins el 7 de maig de 2013, trucant a l’Àrea Social de la Mancomunitat La Plana (93 812 54 45) de dilluns a divendres de 9 a 14h



Activitat subvencionada pels vostres Ajuntaments













URI:https://www.mancoplana.cat/actualitat/agenda/visita-guiada-al-servei-de-teleassistencia-aiguafreda-i-sant-marti-de-centelles.html
CLASS:PUBLIC
END:VEVENT
END:VCALENDAR
