BEGIN:VCALENDAR
VERSION:2.0
CALSCALE:GREGORIAN
PRODID:-//Diputació de Barcelona//DibaCMS//EN
BEGIN:VEVENT
UID:7339
DTSTAMP:20260422T150703
DTSTART:20130508T000000
DTEND:20130508T000000
SUMMARY:Xerrada_Prevenció d’accidents a la llar_Malla
LOCATION:
METHOD:PUBLISH
X-WR-CALNAME:mancoplana@mancoplana.cat
X-WR-TIMEZONE:Europe/Madrid
DESCRIPTION:Es parlarà, entre d’altres aspectes, dels diferents espais de la casa on hi ha més risc de patir accidents o caigudes, o de quins són els elements imprescindibles d’una farmaciola domèstica.



 







Organitza: Regidoria de Serveis Socials i Àrea Social de la Mancomunitat La Plana, amb el suport de la Diputació de Barcelona









URI:https://www.mancoplana.cat/actualitat/agenda/xerrada-prevencio-daccidents-a-la-llar-malla.html
CLASS:PUBLIC
END:VEVENT
END:VCALENDAR
