BEGIN:VCALENDAR
VERSION:2.0
CALSCALE:GREGORIAN
PRODID:-//Diputació de Barcelona//DibaCMS//EN
BEGIN:VEVENT
UID:7341
DTSTAMP:20260422T113457
DTSTART:20130521T000000
DTEND:20130521T000000
SUMMARY:Curs de Primers Auxilis_Aiguafreda-Sant Martí de Centelles
LOCATION:
METHOD:PUBLISH
X-WR-CALNAME:mancoplana@mancoplana.cat
X-WR-TIMEZONE:Europe/Madrid
DESCRIPTION:Mínim 10 inscrits Inscripcions i pagament



 fins el 16 de maig a El Punt


URI:https://www.mancoplana.cat/actualitat/agenda/curs-de-primers-auxilis-aiguafreda-sant-marti-de-centelles.html
CLASS:PUBLIC
END:VEVENT
END:VCALENDAR
