BEGIN:VCALENDAR
VERSION:2.0
CALSCALE:GREGORIAN
PRODID:-//Diputació de Barcelona//DibaCMS//EN
BEGIN:VEVENT
UID:7342
DTSTAMP:20260422T150141
DTSTART:20130528T000000
DTEND:20130529T000000
SUMMARY:Curs de Soldadura_Aiguafreda-Sant Martí de Centelles
LOCATION:
METHOD:PUBLISH
X-WR-CALNAME:mancoplana@mancoplana.cat
X-WR-TIMEZONE:Europe/Madrid
DESCRIPTION:Mínim 10 inscrits



 Inscripcions i pagament



 fins el 23 de maig a El Punt


URI:https://www.mancoplana.cat/actualitat/agenda/curs-de-soldadura-aiguafreda-sant-marti-de-centelles.html
CLASS:PUBLIC
END:VEVENT
END:VCALENDAR
