BEGIN:VCALENDAR
VERSION:2.0
CALSCALE:GREGORIAN
PRODID:-//Diputació de Barcelona//DibaCMS//EN
BEGIN:VEVENT
UID:7344
DTSTAMP:20260422T150207
DTSTART:20130521T000000
DTEND:20130521T000000
SUMMARY:Taller Només tenim una vida, aprofitem-la!_Taradell
LOCATION:
METHOD:PUBLISH
X-WR-CALNAME:mancoplana@mancoplana.cat
X-WR-TIMEZONE:Europe/Madrid
DESCRIPTION:Taller de qualitat de vida a càrrec de Jorgina Sanjuan, psicòloga







Parlarem del positivisme, de l’autoreflexió, sobre els estereotips de la gent gran...



 







Dates: 21, 28 de maig i 4 de juny de 2013



Inscripcions



 : fins el 20 de maig de 2013, trucant a l’Àrea Social de la Mancomunitat (93 812 54 45) de dilluns a divendres de 9 a 14h









URI:https://www.mancoplana.cat/actualitat/agenda/taller-nomes-tenim-una-vida-aprofitem-la-taradell.html
CLASS:PUBLIC
END:VEVENT
END:VCALENDAR
