BEGIN:VCALENDAR
VERSION:2.0
CALSCALE:GREGORIAN
PRODID:-//Diputació de Barcelona//DibaCMS//EN
BEGIN:VEVENT
UID:7345
DTSTAMP:20260422T130019
DTSTART:20130513T000000
DTEND:20130513T000000
SUMMARY:Taller de creixement personal per a dones_Santa Eulàlia de Riuprimer
LOCATION:
METHOD:PUBLISH
X-WR-CALNAME:mancoplana@mancoplana.cat
X-WR-TIMEZONE:Europe/Madrid
DESCRIPTION:


URI:https://www.mancoplana.cat/actualitat/agenda/taller-de-creixement-personal-per-a-dones-santa-eulalia-de-riuprimer.html
CLASS:PUBLIC
END:VEVENT
END:VCALENDAR
