BEGIN:VCALENDAR
VERSION:2.0
CALSCALE:GREGORIAN
PRODID:-//Diputació de Barcelona//DibaCMS//EN
BEGIN:VEVENT
UID:7347
DTSTAMP:20260422T100746
DTSTART:20130510T000000
DTEND:20130510T000000
SUMMARY:Jornada Convivència i civisme_Taradell - 10/05/2013
LOCATION:
METHOD:PUBLISH
X-WR-CALNAME:mancoplana@mancoplana.cat
X-WR-TIMEZONE:Europe/Madrid
DESCRIPTION:
	Jornada de retorn del treball realitzat per l'equip de prevenció i mediació comunitari









	Dirigida a tothom que estigui relacionat amb la infància i la joventut de Taradell









	Per donar a conèixer les reflexions sobre l'estat de la convivència en relació als infants i joves a Taradell i les aportacions i propostes que podrien ajudar a millorar-lo.





	 





URI:https://www.mancoplana.cat/actualitat/agenda/jornada-convivencia-i-civisme-taradell-10052013.html
CLASS:PUBLIC
END:VEVENT
END:VCALENDAR
