BEGIN:VCALENDAR
VERSION:2.0
CALSCALE:GREGORIAN
PRODID:-//Diputació de Barcelona//DibaCMS//EN
BEGIN:VEVENT
UID:7350
DTSTAMP:20260422T132453
DTSTART:20130516T000000
DTEND:20130516T000000
SUMMARY:Visita guiada al servei de teleassistència_Sant Miquel de Balenyà-Seva
LOCATION:
METHOD:PUBLISH
X-WR-CALNAME:mancoplana@mancoplana.cat
X-WR-TIMEZONE:Europe/Madrid
DESCRIPTION:Coneixerem com funciona el servei de teleassistència i tot l’equip de professionals que hi ha darrera, a la seu de Barcelona







Inscripcions



 : fins el 8 de maig de 2013, trucant a l’Àrea Social de la Mancomunitat La Plana (93 812 54 45) de dilluns a divendres de 9 a 14h



Activitat subvencionada per l’Ajuntament













URI:https://www.mancoplana.cat/actualitat/agenda/visita-guiada-al-servei-de-teleassistencia-sant-miquel-de-balenya-seva.html
CLASS:PUBLIC
END:VEVENT
END:VCALENDAR
