BEGIN:VCALENDAR
VERSION:2.0
CALSCALE:GREGORIAN
PRODID:-//Diputació de Barcelona//DibaCMS//EN
BEGIN:VEVENT
UID:7352
DTSTAMP:20260422T150223
DTSTART:20130511T000000
DTEND:20130511T000000
SUMMARY:4a Fira de la cervesa i 1a Mostra d’entitats_Balenyà
LOCATION:
METHOD:PUBLISH
X-WR-CALNAME:mancoplana@mancoplana.cat
X-WR-TIMEZONE:Europe/Madrid
DESCRIPTION:


URI:https://www.mancoplana.cat/actualitat/agenda/4a-fira-de-la-cervesa-i-1a-mostra-dentitats-balenya.html
CLASS:PUBLIC
END:VEVENT
END:VCALENDAR
