BEGIN:VCALENDAR
VERSION:2.0
CALSCALE:GREGORIAN
PRODID:-//Diputació de Barcelona//DibaCMS//EN
BEGIN:VEVENT
UID:7354
DTSTAMP:20260422T114939
DTSTART:20130529T000000
DTEND:20130529T000000
SUMMARY:Assemblea de socis de l&rsquo;Associació de Jubilats_1a Setmana de la gent gran_Sant Miquel de Balenyà
LOCATION:
METHOD:PUBLISH
X-WR-CALNAME:mancoplana@mancoplana.cat
X-WR-TIMEZONE:Europe/Madrid
DESCRIPTION:


URI:https://www.mancoplana.cat/actualitat/agenda/assemblea-de-socis-de-landrsquoassociacio-de-jubilats-1a-setmana-de-la-gent-gran-sant-miquel-de-balenya.html
CLASS:PUBLIC
END:VEVENT
END:VCALENDAR
