BEGIN:VCALENDAR
VERSION:2.0
CALSCALE:GREGORIAN
PRODID:-//Diputació de Barcelona//DibaCMS//EN
BEGIN:VEVENT
UID:7355
DTSTAMP:20260422T102053
DTSTART:20130527T000000
DTEND:20130527T000000
SUMMARY:Sessió de tonificació muscular i psicomotricitat_1a Setmana de la gent gran_Sant Miquel de Balenyà
LOCATION:
METHOD:PUBLISH
X-WR-CALNAME:mancoplana@mancoplana.cat
X-WR-TIMEZONE:Europe/Madrid
DESCRIPTION:
	Sessió de tonificació muscular i psicomotricitat a càrrec de Sandra Franquesa, fisioterapeuta









	Inscripcions



 : trucant a Ramon Bonet (650.589.635) o Srs. Codina (93.887.14.25)





	





	 





URI:https://www.mancoplana.cat/actualitat/agenda/sessio-de-tonificacio-muscular-i-psicomotricitat-1a-setmana-de-la-gent-gran-sant-miquel-de-balenya.html
CLASS:PUBLIC
END:VEVENT
END:VCALENDAR
