BEGIN:VCALENDAR
VERSION:2.0
CALSCALE:GREGORIAN
PRODID:-//Diputació de Barcelona//DibaCMS//EN
BEGIN:VEVENT
UID:7362
DTSTAMP:20260422T113528
DTSTART:20130612T000000
DTEND:20130612T000000
SUMMARY:Taller_Només tenim una vida, aprofitem-la!_Balenyà
LOCATION:
METHOD:PUBLISH
X-WR-CALNAME:mancoplana@mancoplana.cat
X-WR-TIMEZONE:Europe/Madrid
DESCRIPTION:
	Taller de qualitat de vida a càrrec de Jorgina Sanjuan, psicòloga









	Parlarem del positivisme, de l'autoreflexió, sobre els estereotips de la gent gran...





	Els dimecres 12-19-26 de juny de 2013









	Inscripcions fins el 10 de juny de 2013









	
		Al Bar de la Llar del Jubilat




	
		A l'Àrea Social de la Mancomunitat La Plana (93 812 54 45) de 9 a 14h










URI:https://www.mancoplana.cat/actualitat/agenda/taller-nomes-tenim-una-vida-aprofitem-la-balenya.html
CLASS:PUBLIC
END:VEVENT
END:VCALENDAR
