BEGIN:VCALENDAR
VERSION:2.0
CALSCALE:GREGORIAN
PRODID:-//Diputació de Barcelona//DibaCMS//EN
BEGIN:VEVENT
UID:7366
DTSTAMP:20260422T132937
DTSTART:20130607T000000
DTEND:20130607T000000
SUMMARY:Taller de ràdio per joves_Balenyà
LOCATION:
METHOD:PUBLISH
X-WR-CALNAME:mancoplana@mancoplana.cat
X-WR-TIMEZONE:Europe/Madrid
DESCRIPTION:
	Divendres 31 de maig, 7 i 14 de juny de 2013









	Més informació: SIJ Flik Flak









URI:https://www.mancoplana.cat/actualitat/agenda/taller-de-radio-per-joves-balenya.html
CLASS:PUBLIC
END:VEVENT
END:VCALENDAR
