BEGIN:VCALENDAR
VERSION:2.0
CALSCALE:GREGORIAN
PRODID:-//Diputació de Barcelona//DibaCMS//EN
BEGIN:VEVENT
UID:7378
DTSTAMP:20260422T100842
DTSTART:20130618T000000
DTEND:20130618T000000
SUMMARY:Presentació del projecte PERFILS_Tona
LOCATION:
METHOD:PUBLISH
X-WR-CALNAME:mancoplana@mancoplana.cat
X-WR-TIMEZONE:Europe/Madrid
DESCRIPTION:
	Presentació del projecte de joventut i interculturalitat PERFILS que es va dur a terme amb els alumnes de 2ni 3r d'ESO de l'Institut de Tona i de l'Escola VEdruna de Tona durant l'any 2012









	A l'acte hi assistiran:





	
		Francesc Torras, tècnic de convivència de la Mancomunitat La Plana




	
		Bruna Dinarès de AcVic




	
		Dolors Casas de l'lnstitut de Tona




	
		Magda Patenàs i Ester Puig de l'Escola Vedruna de Tona




	
		Alumnes dels dos centres




	
		Protagonistes de les entrevistes realitzades










URI:https://www.mancoplana.cat/actualitat/agenda/presentacio-del-projecte-perfils-tona.html
CLASS:PUBLIC
END:VEVENT
END:VCALENDAR
